BEGIN:VCALENDAR
VERSION:2.0
PRODID:-//KörperPsychotherapie - ECPv6.15.13//NONSGML v1.0//EN
CALSCALE:GREGORIAN
METHOD:PUBLISH
X-WR-CALNAME:KörperPsychotherapie
X-ORIGINAL-URL:https://www.koerperpsychotherapie-kassel.de
X-WR-CALDESC:Veranstaltungen für KörperPsychotherapie
REFRESH-INTERVAL;VALUE=DURATION:PT1H
X-Robots-Tag:noindex
X-PUBLISHED-TTL:PT1H
BEGIN:VTIMEZONE
TZID:Europe/Berlin
BEGIN:DAYLIGHT
TZOFFSETFROM:+0100
TZOFFSETTO:+0200
TZNAME:CEST
DTSTART:20250330T010000
END:DAYLIGHT
BEGIN:STANDARD
TZOFFSETFROM:+0200
TZOFFSETTO:+0100
TZNAME:CET
DTSTART:20251026T010000
END:STANDARD
BEGIN:DAYLIGHT
TZOFFSETFROM:+0100
TZOFFSETTO:+0200
TZNAME:CEST
DTSTART:20260329T010000
END:DAYLIGHT
BEGIN:STANDARD
TZOFFSETFROM:+0200
TZOFFSETTO:+0100
TZNAME:CET
DTSTART:20261025T010000
END:STANDARD
BEGIN:DAYLIGHT
TZOFFSETFROM:+0100
TZOFFSETTO:+0200
TZNAME:CEST
DTSTART:20270328T010000
END:DAYLIGHT
BEGIN:STANDARD
TZOFFSETFROM:+0200
TZOFFSETTO:+0100
TZNAME:CET
DTSTART:20271031T010000
END:STANDARD
END:VTIMEZONE
BEGIN:VEVENT
DTSTART;TZID=Europe/Berlin:20260920T093000
DTEND;TZID=Europe/Berlin:20260920T190000
DTSTAMP:20260420T160822
CREATED:20251230T094135Z
LAST-MODIFIED:20251230T094411Z
UID:3474-1789896600-1789930800@www.koerperpsychotherapie-kassel.de
SUMMARY:WORKSHOP | UMGANG MIT EMOTIONEN
DESCRIPTION:Innehalten; Gefühle/Empfi ndungen/Gedanken bewusst wahr-und anzunehmen. Selbstregulation ist so wesentlich\, im Kontakt mit…\, dies über den Atem\, das (polyvagale) Nervensystem. In einer guten Selbstanbindung dich zu ankern kann Blockierendes bewegen. „Lebendig und verkörpert sein!“ \nSo\, der 20.09.26\n9.30 bis 19.00 Uhr \ninkl. Raummiete 120 – 140 € \nBitte frühzeitige (Vor-)Anmeldungen\, bei großer Teilnehmendenzahl kann ein Ortswechsel stattfinden
URL:https://www.koerperpsychotherapie-kassel.de/event/workshop-umgang-mit-emotionen/
LOCATION:Praxis\, Lahnweg 27\, 34131 Kassel
END:VEVENT
BEGIN:VEVENT
DTSTART;TZID=Europe/Berlin:20261025T093000
DTEND;TZID=Europe/Berlin:20261025T193000
DTSTAMP:20260420T160822
CREATED:20251229T150709Z
LAST-MODIFIED:20251229T150709Z
UID:3452-1792920600-1792956600@www.koerperpsychotherapie-kassel.de
SUMMARY:AUFSTELLUNGSTAGE
DESCRIPTION:AUFSTELLUNGSTAGE \nGut aufgestellt – je nach Anliegen und Dynamik ist die Vorgehensweise eine andere. Jede Aufstellung beginnt mit einem Interview zur Auftragsklärung. An einem Tag sind bis zu 4 Aufstellungen möglich. Du kannst jeweils einen Gast mitbringen und weitere Stellvertreter*innen sind willkommen mitzuwirken.\nStellvertretendenpositionen unterstützen das Sichtbarwerden dessen\, was komplex ist und hinter dem Problem steht. \nAufgestellt werden können z.B.:\n– SELBSTaufstellungen\, wie zu Symptomen/Krankheiten oder Entscheidungen.\n– Familienaufstellungen\, die Herkunftsfamilie wie gegenwärtige Systeme.\n– Berufl iche Themen\, Teams oder Organisationen \njeweils von 09:30 Uhr – 19:30 Uhr in der Praxis\nSo 18.01.26\, So 15.03.26\, Sa 30.05.2026 Sa 15.08.26\, So 25.10.26\, Sa 19.12.26 \nHonorar: mit Anliegen 180 € (inkl. Raumgebühr)\,\nTN ohne Aufstellungsanliegen: 10-50 €
URL:https://www.koerperpsychotherapie-kassel.de/event/aufstellungstage-4/
LOCATION:Praxis\, Lahnweg 27\, 34131 Kassel
END:VEVENT
BEGIN:VEVENT
DTSTART;TZID=Europe/Berlin:20261030T180000
DTEND;TZID=Europe/Berlin:20261030T220000
DTSTAMP:20260420T160822
CREATED:20251229T145505Z
LAST-MODIFIED:20251229T145505Z
UID:3426-1793383200-1793397600@www.koerperpsychotherapie-kassel.de
SUMMARY:KÖRPER-GRUPPENTHERAPIE ABENDGRUPPE 2026/2027
DESCRIPTION:KÖRPER-GRUPPENTHERAPIE\nABENDGRUPPE 2026/2027 \n„geworden sein und werden“ \nEinmal monatlich freitags von 18.00 bis 22.00 Uhr\nDer neue Zyklus beginnt am 20.03.26\, 24.04.26\, 29.05.26\,\n19.06.26\, 21.08.26\, 18.09.26\, 30.10.26\, 27.11.26\, 18.12.26 \nHonorar: 80€ bei mindestens 6 TN (inkl. Raumgebühr) \nErgänzt werden kann dies durch die Seminarthemen und\nWorkshops wie mit den Aufstellungstagen!
URL:https://www.koerperpsychotherapie-kassel.de/event/koerper-gruppentherapie-abendgruppe-2026-2027-7/
LOCATION:Praxis\, Lahnweg 27\, 34131 Kassel
END:VEVENT
BEGIN:VEVENT
DTSTART;TZID=Europe/Berlin:20261031T093000
DTEND;TZID=Europe/Berlin:20261031T190000
DTSTAMP:20260420T160822
CREATED:20251230T092557Z
LAST-MODIFIED:20251230T092626Z
UID:3468-1793439000-1793473200@www.koerperpsychotherapie-kassel.de
SUMMARY:WORKSHOP  |  INNER FAMILY SYSTEM
DESCRIPTION:„Werde der du bist“- Welch eine Entdeckungsreise\, die Dynamik deiner inneren Selbst-Anteile kennen zu lernen\, mit dir freundlich sein und sie in Einklang bringen. Wohlwollend auf dich schauend ein tieferes Verständnis für innere Konflikte/Nöte/das Verletzliche wie für die Power/Beschützer zu gewinnen stärkt und ist so bereichernd. \nSo\, der 26.04.26 und So\, der 31.10.26\n9.30 bis 19.00 Uhr \ninkl. Raummiete 120 – 140 € \nBitte frühzeitige (Vor-)Anmeldungen\, bei großer Teilnehmendenzahl kann ein Ortswechsel stattfinden.
URL:https://www.koerperpsychotherapie-kassel.de/event/workshop-inner-family-system-2/
LOCATION:Praxis\, Lahnweg 27\, 34131 Kassel
END:VEVENT
BEGIN:VEVENT
DTSTART;TZID=Europe/Berlin:20261127T180000
DTEND;TZID=Europe/Berlin:20261127T220000
DTSTAMP:20260420T160822
CREATED:20251229T145539Z
LAST-MODIFIED:20251229T145539Z
UID:3427-1795802400-1795816800@www.koerperpsychotherapie-kassel.de
SUMMARY:KÖRPER-GRUPPENTHERAPIE ABENDGRUPPE 2026/2027
DESCRIPTION:KÖRPER-GRUPPENTHERAPIE\nABENDGRUPPE 2026/2027 \n„geworden sein und werden“ \nEinmal monatlich freitags von 18.00 bis 22.00 Uhr\nDer neue Zyklus beginnt am 20.03.26\, 24.04.26\, 29.05.26\,\n19.06.26\, 21.08.26\, 18.09.26\, 30.10.26\, 27.11.26\, 18.12.26 \nHonorar: 80€ bei mindestens 6 TN (inkl. Raumgebühr) \nErgänzt werden kann dies durch die Seminarthemen und\nWorkshops wie mit den Aufstellungstagen!
URL:https://www.koerperpsychotherapie-kassel.de/event/koerper-gruppentherapie-abendgruppe-2026-2027-8/
LOCATION:Praxis\, Lahnweg 27\, 34131 Kassel
END:VEVENT
BEGIN:VEVENT
DTSTART;TZID=Europe/Berlin:20261218T180000
DTEND;TZID=Europe/Berlin:20261218T220000
DTSTAMP:20260420T160822
CREATED:20251229T145617Z
LAST-MODIFIED:20251229T145617Z
UID:3428-1797616800-1797631200@www.koerperpsychotherapie-kassel.de
SUMMARY:KÖRPER-GRUPPENTHERAPIE ABENDGRUPPE 2026/2027
DESCRIPTION:KÖRPER-GRUPPENTHERAPIE\nABENDGRUPPE 2026/2027 \n„geworden sein und werden“ \nEinmal monatlich freitags von 18.00 bis 22.00 Uhr\nDer neue Zyklus beginnt am 20.03.26\, 24.04.26\, 29.05.26\,\n19.06.26\, 21.08.26\, 18.09.26\, 30.10.26\, 27.11.26\, 18.12.26 \nHonorar: 80€ bei mindestens 6 TN (inkl. Raumgebühr) \nErgänzt werden kann dies durch die Seminarthemen und\nWorkshops wie mit den Aufstellungstagen!
URL:https://www.koerperpsychotherapie-kassel.de/event/koerper-gruppentherapie-abendgruppe-2026-2027-9/
LOCATION:Praxis\, Lahnweg 27\, 34131 Kassel
END:VEVENT
BEGIN:VEVENT
DTSTART;TZID=Europe/Berlin:20261219T093000
DTEND;TZID=Europe/Berlin:20261219T193000
DTSTAMP:20260420T160822
CREATED:20251229T150753Z
LAST-MODIFIED:20251229T150753Z
UID:3453-1797672600-1797708600@www.koerperpsychotherapie-kassel.de
SUMMARY:AUFSTELLUNGSTAGE
DESCRIPTION:AUFSTELLUNGSTAGE \nGut aufgestellt – je nach Anliegen und Dynamik ist die Vorgehensweise eine andere. Jede Aufstellung beginnt mit einem Interview zur Auftragsklärung. An einem Tag sind bis zu 4 Aufstellungen möglich. Du kannst jeweils einen Gast mitbringen und weitere Stellvertreter*innen sind willkommen mitzuwirken.\nStellvertretendenpositionen unterstützen das Sichtbarwerden dessen\, was komplex ist und hinter dem Problem steht. \nAufgestellt werden können z.B.:\n– SELBSTaufstellungen\, wie zu Symptomen/Krankheiten oder Entscheidungen.\n– Familienaufstellungen\, die Herkunftsfamilie wie gegenwärtige Systeme.\n– Berufl iche Themen\, Teams oder Organisationen \njeweils von 09:30 Uhr – 19:30 Uhr in der Praxis\nSo 18.01.26\, So 15.03.26\, Sa 30.05.2026 Sa 15.08.26\, So 25.10.26\, Sa 19.12.26 \nHonorar: mit Anliegen 180 € (inkl. Raumgebühr)\,\nTN ohne Aufstellungsanliegen: 10-50 €
URL:https://www.koerperpsychotherapie-kassel.de/event/aufstellungstage-5/
LOCATION:Praxis\, Lahnweg 27\, 34131 Kassel
END:VEVENT
BEGIN:VEVENT
DTSTART;TZID=Europe/Berlin:20261220T160000
DTEND;TZID=Europe/Berlin:20261220T210000
DTSTAMP:20260420T160822
CREATED:20251230T094235Z
LAST-MODIFIED:20251230T094235Z
UID:3497-1797782400-1797800400@www.koerperpsychotherapie-kassel.de
SUMMARY:WORKSHOP  |  WINTERSONNENWENDE
DESCRIPTION:Nutzen wir die besinnliche Zeit\, um uns zu sammeln\, in Stille zu sein und zu wandeln. „Altes“ (Ur-Ängste) zu lassen und „das Neue“ zu begrüßen. Mit einem Ritual zelebrieren wir den Übergang von Dunkel zu Hell\, dem Vergänglichen und Unbekannten und damit das Vertrauen in den großen Zyklus vom Leben\, zwischen Erde und Himmel. \nSo\, der 20.12.26 \n16 bis 21 Uhr \ninkl. Raummiete 60 – 80 € \nBitte frühzeitige (Vor-)Anmeldungen\, bei großer Teilnehmendenzahl kann ein Ortswechsel stattfinden.
URL:https://www.koerperpsychotherapie-kassel.de/event/workshop-wintersonnenwende/
LOCATION:Praxis\, Lahnweg 27\, 34131 Kassel
END:VEVENT
END:VCALENDAR